BEGIN:VCALENDAR
VERSION:2.0
PRODID:-//https://discovermiddleton.ca//NONSGML kigkonsult.se iCalcreator 2.41.71//
CALSCALE:GREGORIAN
METHOD:PUBLISH
UID:66623136-3034-4231-b130-313732653266
X-WR-CALNAME:JCal Pro Calendar
X-WR-CALDESC:Your online events calendar
X-WR-TIMEZONE:America/Halifax
BEGIN:VTIMEZONE
TZID:America/Halifax
TZUNTIL:20271107T050000Z
BEGIN:STANDARD
TZNAME:AST
DTSTART:20251102T020000
TZOFFSETFROM:-0300
TZOFFSETTO:-0400
RDATE:20261101T020000
END:STANDARD
BEGIN:DAYLIGHT
TZNAME:ADT
DTSTART:20260308T020000
TZOFFSETFROM:-0400
TZOFFSETTO:-0300
RDATE:20270314T020000
END:DAYLIGHT
END:VTIMEZONE
BEGIN:VEVENT
UID:20260504T193000UTC-1607G82kkh@https://www.discovermiddleton.ca/
DTSTAMP:20260422T144541Z
CATEGORIES:Council Meetings
DESCRIPTION:<p>There will be a Special Council Meeting immediately followin
 g Committee of the Whole.</p>\n<p>All meetings are live streamed on YouTub
 e and can be watched\, here: www.youtube.com/@townofmiddleton</p>
DTSTART;TZID=America/Halifax:20260504T193000
DTEND;TZID=America/Halifax:20260504T193000
SUMMARY:Special Council Meeting
URL:https://discovermiddleton.ca/about-us/community-calendar/15-council-mee
 tings/73-special-council-meeting
X-ALT-DESC;FMTTYPE=TEXT/HTML:<p>There will be a Special Council Meeting imm
 ediately following Committee of the Whole.</p>\n<p>All meetings are live s
 treamed on YouTube and can be watched\, here: www.youtube.com/@townofmiddl
 eton</p>
END:VEVENT
END:VCALENDAR
